BEGIN:VCALENDAR
VERSION:2.0
PRODID:-//Kulturort Alte Molkerei - ECPv6.15.20//NONSGML v1.0//EN
CALSCALE:GREGORIAN
METHOD:PUBLISH
X-WR-CALNAME:Kulturort Alte Molkerei
X-ORIGINAL-URL:https://alte-molkerei.info
X-WR-CALDESC:Veranstaltungen für Kulturort Alte Molkerei
REFRESH-INTERVAL;VALUE=DURATION:PT1H
X-Robots-Tag:noindex
X-PUBLISHED-TTL:PT1H
BEGIN:VTIMEZONE
TZID:Europe/Berlin
BEGIN:DAYLIGHT
TZOFFSETFROM:+0100
TZOFFSETTO:+0200
TZNAME:CEST
DTSTART:20160327T010000
END:DAYLIGHT
BEGIN:STANDARD
TZOFFSETFROM:+0200
TZOFFSETTO:+0100
TZNAME:CET
DTSTART:20161030T010000
END:STANDARD
BEGIN:DAYLIGHT
TZOFFSETFROM:+0100
TZOFFSETTO:+0200
TZNAME:CEST
DTSTART:20170326T010000
END:DAYLIGHT
BEGIN:STANDARD
TZOFFSETFROM:+0200
TZOFFSETTO:+0100
TZNAME:CET
DTSTART:20171029T010000
END:STANDARD
BEGIN:DAYLIGHT
TZOFFSETFROM:+0100
TZOFFSETTO:+0200
TZNAME:CEST
DTSTART:20180325T010000
END:DAYLIGHT
BEGIN:STANDARD
TZOFFSETFROM:+0200
TZOFFSETTO:+0100
TZNAME:CET
DTSTART:20181028T010000
END:STANDARD
END:VTIMEZONE
BEGIN:VEVENT
DTSTART;TZID=Europe/Berlin:20170513T200000
DTEND;TZID=Europe/Berlin:20170513T200000
DTSTAMP:20260420T115411
CREATED:20250706T125814Z
LAST-MODIFIED:20250706T125814Z
UID:2956-1494705600-1494705600@alte-molkerei.info
SUMMARY:17. Geburtstag Alte Molkerei mit More Chocolate im Foyer & Thomas Koenig und Willer& Band im Saal
DESCRIPTION:17. Geburtstag Alte Molkerei \nmit More Chocolate\, Thomas Koenig und Willer& Band \nEintritt frei! \nZum 17. Geburtstag der Alten Molkerei wird mal wieder ein \nmusikalisches Feuerwerk gezündet! \nIm Foyer: \nMORE CHOCOLATE – Akustik-Duo     (ca 20h – 2030h  und 22h – 2230h) \nIm Saal  \nTHOMAS KOENIG (ca. 2030h – 22h) \nund WILLER & BAND (ab ca 2230h ) \nWILLER & BANDGetourt mit Acts wie Richie Sambora\, Revolverheld\, Laith Al-Deen\, Jennifer Rostock\, Pohlmann\, Wirtz\, Luxuslärm\, Tom Beck\, Tobias Regner\, Fools Garden\, Ray Wilson uvm.Beeinflusst vom Leben an sich und dafür geliebt von seinem Publikum\, bewegt sich WILLER mit seinem neuen Album auf komplett neuer Straße und beweist erneut\, dass sein Weg der richtige ist:„Wovon sollen Lieder reden“ heißt es.Das imaginäre Fragezeichen dahinter wischt WILLER weg.Zu recht.Er zeigt es.Auf der Bühne macht WILLER dann ganz genau das\, was er schon immer machen wollte: einfach nur Musik.Aufrichtige Musik. Ehrliche Musik. Authentische Musik. WILLERs Texte erzählen von Verlust\, Liebe\, Schicksal und der Suche nach dem eigenen Weg\, sind dabei nachdenklich aber niemals rührselig. Es ist ihm wichtig\, Songs über das Leben zu schreiben und nicht über fiktive Dinge\, „schließlich merkt das Publikum ob es ehrliche Musik präsentiert bekommt oder nicht.“www.willer-music.com \nTHOMAS KOENIGNach vielen Konzerten\, Touren\, Bands und Projekten hat sich Gitarrist und Sänger Thomas Koenig im Spätsommer 2015 zurückgezogen\, um zusammen mit seinen langjährigen\, musikalischen Weggefährten Arnold Ogrodnik (Bass) und Markus Daßau (Drums) neue Songs einzuspielen und ein Debutalbum aufzunehmen. Dieses ist im Oktober 2016 erscheinen\, prall gefüllt mit progressiven\, poppigen und rockigen Songs. Ausserdem konnte Gitarrist Manuel Springer als ein weiteres Bandmitglied verpflichtet werden. Nach Monaten im Studio freuen sich nun alle\, das energiegeladene Material präsentieren zu dürfen. \nMORE CHOCOLATEMore Chocolate – Karin und Norbert Lörcks spielen eigene authentische Songs. Diese leben durch ihren zweistimmigen Gesang und die Instrumentierung mit akustischen Gitarren\, Piano\, Percussion\, Bass\, Whistle und Mundharmonika. Weiterhin bereichern bekannte Acoustic-Covernummern von Melissa Etheridge’s „Like the way I do“ bis hin zu Jason Mraz’ „I’m yours“ ihr Programm \nhttp://
URL:https://alte-molkerei.info/event/17-geburtstag-alte-molkerei-mit-more-chocolate-im-foyer-thomas-koenig-und-willer-band-im-saal/
LOCATION:NRW
ATTACH;FMTTYPE=image/jpeg:https://alte-molkerei.info/wp-content/uploads/2025/07/17-geburtstag-alte-molkerei-mit-more-chocolate-im-foyer-thomas-koenig-und-willer-band-im-saal.jpg
END:VEVENT
BEGIN:VEVENT
DTSTART;TZID=Europe/Berlin:20170517T203000
DTEND;TZID=Europe/Berlin:20170517T203000
DTSTAMP:20260420T115411
CREATED:20250706T125817Z
LAST-MODIFIED:20250706T125817Z
UID:2958-1495053000-1495053000@alte-molkerei.info
SUMMARY:Mälka „A Tribute to Motown Classics“
DESCRIPTION:MÄLKA \n„A Tribute to Motown classics”. \nObiges Motto haben sich die 12 Mitglieder der Mälka als Leitfaden gesetzt.Egal ob Billy Preston\, Stevie Wonder\, Jackie Wilson oder Ray Charles\, die 12 routinierten Musiker der Mälka sind dank ihrer langjährigen Bühnenerfahrung perfekt abgestimmt\, das Feeling und den Geist der Musik jener Zeit zu transportieren. Die Besetzung mit komplettem Bläsersatz und mehrstimmigem Gesang bietet ein voluminöses Klangspektrum\, das mitzureißen weiß.Bekannt als Hausband des Kulturortes Alte Molkerei in Bocholt begeistert die Mälka seit Jahren ihr Publikum mit einer druckstarken Rhythmusfraktion aus Bass\, Schlagzeug und Percussions.Durch den eindrucksvollen Sound von Hammond Orgel und Gitarrensoli werden zum Beispiel ‚Nothing From Nothing‘ oder ‚Long Train Running‘ wirkungsvoll zum Leben erweckt. „A Tribute to Motown classics” steht nicht zuletzt auch für die pure Spielfreude und im ursprünglichen Sinne auch für handgemachte\, ehrliche Musik!
URL:https://alte-molkerei.info/event/maelka-a-tribute-to-motown-classics/
LOCATION:NRW
ATTACH;FMTTYPE=image/jpeg:https://alte-molkerei.info/wp-content/uploads/2025/07/mlka-a-tribute-to-motown-classics.jpg
END:VEVENT
BEGIN:VEVENT
DTSTART;TZID=Europe/Berlin:20170519T193000
DTEND;TZID=Europe/Berlin:20170519T193000
DTSTAMP:20260420T115411
CREATED:20250706T125819Z
LAST-MODIFIED:20250706T125819Z
UID:2960-1495222200-1495222200@alte-molkerei.info
SUMMARY:4. Bocholter Rudelsingen mit Tobias Sudhoff
DESCRIPTION:4. Rudelsingen mit Tobias Sudhoff \nDas Rudelsingen ist eine unaufhaltsame Welle der guten Laune und der Freude am gemeinsamen Singen\, die ganz Deutschland überrollt. Das erfolgreichste Format der geselligen Mitsingabende lockt Zig-Tausende Fans in die Stadthallen und Theater.In lockerer Atmosphäre treffen sich Jung und Alt zum gemeinsamen Singen. Live begleitet von zwei Top-Musikern\, die das Publikum in Ekstase treiben. Keiner braucht Scheu zu haben\, denn alle machen mit!One\, two\, three\, four … im Rudel singen\, der Spaß für alle Generationen.Gesungen wird alles\, was Spaß macht: Gassenhauer von A bis Z\, von gestern bis heute\, mit Liedern von ABBA\, Beatles\, Comedian Harmonists\, Grönemeyer\, Rühmann\, Udo Jürgens\, Reinhard May\, Nena\, NDW\, von Armstrong bis zu Zappa – von Titelmelodien bis zu Volksliedern aus der Mundorgel…Sudhoff und Homann – Zwei Männer für jede TonartTobias Sudhoff ist vielen als Musiker ein Begriff\, u.a. als Mitglied der Kiesewetter-Band\, aber auch als Side-Man u.a. mit Charlie Mariano\, Herb Geller\, Lee Konitz\, Bill Ramsey\, Max Mutzke\, Ron Williams\, Sydney Youngblood\, Peter Fessler … Gereon Homann ist einer der talentiertesten Nachwuchsdrummer der letzten Jahre. Er spielte an der Seite vieler bekannter Größen aus der Musikszene und ist mit seiner Band „Eat the Gun“ längst einem großen Publikum bekannt. Mit allen technischen Wassern gewaschen fühlt er sich in allen Genres wohl. \nhttps://rudelsingen.de/
URL:https://alte-molkerei.info/event/4-bocholter-rudelsingen-mit-tobias-sudhoff/
LOCATION:NRW
ATTACH;FMTTYPE=image/jpeg:https://alte-molkerei.info/wp-content/uploads/2025/07/4-bocholter-rudel-singen-mit-tobias-sudhoff.jpg
END:VEVENT
BEGIN:VEVENT
DTSTART;TZID=Europe/Berlin:20170520T210000
DTEND;TZID=Europe/Berlin:20170520T210000
DTSTAMP:20260420T115411
CREATED:20250706T125352Z
LAST-MODIFIED:20250706T125352Z
UID:2940-1495314000-1495314000@alte-molkerei.info
SUMMARY:MARLEY‘S GHOST Reggaenight
DESCRIPTION:MARLEY‘S GHOST \nist Deutschlands Bob Marley Tribute Band Nummer Eins! \nMit ihrer mitreißenden\, authentischen und unerreichten Energie transportiert die Band nicht nur die Musik und die vielen großen Songs Bob Marleys\, sondern auch seinen Geist und seine Message. \nDer „King of Reggae“ wird von Sebastian Sturm verkörpert\, dessen unverwechselbare Stimme ihm schon oft in seiner musikalischen Laufbahn den Ruf eingebracht hat\, die „deutsche Stimme Bob Marleys“ zu sein. Der charismatische Sänger mit deutsch-indonesischen Wurzeln ist ein leidenschaftlicher Frontmann\, der das Publikum mitreißt und die Besucher regelrecht in seinen Bann zieht! \nDie Musiker spielen seit vielen Jahren gemeinsame Tourneen\, die sie kreuz und quer durch Europa und sogar nach Jamaika\, der Wiege des Reggae\, gebracht haben. Dabei haben sie sich in der Szene durch ihre enorme Spielfreude und Leidenschaft einen Namen als herausragende Live-Band gemacht (u.a. auf Festivals wie Summerjam\, Reggae\, Sun Ska\, Rototom Sunsplash\, Chiemsee Reggae Summer). \n„One good thing about music\, when it hits you\, you feel no pain.“  \nMarley‘s Ghost steht für energetischen Reggae voller Herzblut und Leidenschaft\, die jeder Fan des „King of Reggae“ zu schätzen wissen wird! \n  \nwww.marleysghost.de
URL:https://alte-molkerei.info/event/marleys-ghost-reggaenight/
LOCATION:NRW
ATTACH;FMTTYPE=image/jpeg:https://alte-molkerei.info/wp-content/uploads/2025/07/marleys-ghost-reggaenight.jpg
END:VEVENT
BEGIN:VEVENT
DTSTART;TZID=Europe/Berlin:20170521T200000
DTEND;TZID=Europe/Berlin:20170521T200000
DTSTAMP:20260420T115411
CREATED:20250706T125822Z
LAST-MODIFIED:20250706T125822Z
UID:2962-1495396800-1495396800@alte-molkerei.info
SUMMARY:Marina & The Kats 'Wild'
DESCRIPTION:Marina & The KatsWild Nur ein Jahr nach ihrem Debütalbum „Small“ waren Marina & The Kats\, die kleinste Big Band der Welt\, wieder im Studio. Diesmal ist es sogar ein Vinyl Doppelalbum geworden. „Wild“ nennt sich der zweite Streich. 16 neue Titel finden darauf Platz (13 auf der CD Edition).Dabei sind Marina und ihre Katzen ihrem Stil und ihrem Motto SWING SWING SWING treu geblieben. Über 100 Konzerten geschuldet tauchen sie dabei aber noch tiefer ein\, in den heißen\, treibenden Sound der Juke Joints und Ballrooms. Fetzige Gypsygitarren\, leichtfüßige Melodien\, luftige Beserlgrooves und Marinas einzigartig charmante Stimme verschmelzen zu einem sehnsuchtsvoll nostalgischen Cocktail\, den man schon morgens beim Frühstück und auch noch abends im Tanzcafé genießen kann und der einem unwillkürlich ein Lächeln auf die Lippen zaubert.Sang Marina auf „Small“ noch davon\, wie es sich so lebt\, wenn man ein bisschen kleingewachsen ist\, zeigt sie uns auf „Wild“ dass hinter der süßen\, unschuldigen Fassade auch ein Schlingel lauert\, der es ganz schön faustdick hinter den Ohren hat. So rätselt sie in „Easy Does It“ darüber\, wieso bloß alle frühmorgens zur Arbeit laufen\, während sie gerade von einem ausgelassenen Tanzabend heimkehrt\, freut sich in „Bamboozle Boogie“ darüber anderen Streiche zu spielen\, zankt sich im bluesigen „Miss Jekyll & Mister Hyde“ mit ihrem Liebhaber und versucht auch mal mit zuckersüßer Unschuldsmiene davon abzulenken\, was sie alles angestellt hat („Wild“)Marina ist einfach ein Mädchen\, dass die die Hosen anhat und im forschen „Treat Me Nice!“ macht sie gleich einmal klar\, wie ein Mann eine Frau zu behandeln hat. Sie weiß sich zu helfen\, um zu den Süßigkeiten im obersten Regal zu gelangen und tanzt dabei den verführerischen Cha Cha einer Femme Fatale („Sweets On The Top Shelf“).Dennoch träumt sie auch mal von ruhigeren Zeiten\, wie auf dem\, mit rasanten Vibraphonläufen gewürzten\, „Moon On The Hill“\, oder macht sich über die Vergänglichkeit Gedanken („Forever Young“). Sie macht Liebeserklärungen an Kaffee (das herzerwärmende „C O F F E E“)\, oder ihre Heimatstadt („I Fell For You“)\, versucht mit Rezepten zu verführen („Superb“)\, oder will auch mal einfach tanzen\, bis die Füße glühen („Shim Sham“).Abgerundet wird das Album von zwei Coverversionen. Guns N‘ Roses Klassiker „Paradise City“ und „And Her Tears Flowed Like Wine“\, das einst auch schon die unvergessliche Anita O’Day zusammen mit Stan Kenton zum Besten gegeben hat.Für die nötige Würze sorgen Raphael Wressnig (hammond organ)\, Berndt Luef (Vibraphone)\, Herb Berger (reeds)\, Georg Schrattenholzer (trombone)\, Christian Bakanic (accordion)\, Jörg Haberl (percussion) und Klemens Bittmann (strings) als Gäste.So hebt man mit Marina & Kats ab\, zu einer träumerischen Reise in die Zeit der Django Reinhardts und Cab Calloways\, der Diven und Crooners\, des Lindy Hops und Collegiate Shags\, der Radio Shows und Revuetheater\, der Mirós und Picassos\, der Peek-A-Boo’s und Victory Rolls\, der Buick Rivieras und Cadillac Convertibles zwischen dem schummrigen Cotton Club Harlems und den sonnenüberglänzten Palmen Santa Monicas und landet doch immer wieder sanft im Hier und Heute. \nhttps://www.tixforgigs.com/site/Pages/Shop/ShowEvent.aspx?ID=19213
URL:https://alte-molkerei.info/event/marina-the-kats-wild/
LOCATION:NRW
ATTACH;FMTTYPE=image/jpeg:https://alte-molkerei.info/wp-content/uploads/2025/07/marina-the-kats-wild13.jpg
END:VEVENT
BEGIN:VEVENT
DTSTART;TZID=Europe/Berlin:20170531T200000
DTEND;TZID=Europe/Berlin:20170531T200000
DTSTAMP:20260420T115411
CREATED:20250706T125825Z
LAST-MODIFIED:20250706T125825Z
UID:2964-1496260800-1496260800@alte-molkerei.info
SUMMARY:LiVe&hautnah Matt Bednarsky (US)
DESCRIPTION:Eintritt frei.Eine Spendenkanne für den Künstler geht rum! \nMatt BednarskyCT-born\, NYC-carved\, and Nashville-based\, Singer/Songwriter Matt Bednarsky’s unique music blends pop/rock\, folk\, jazz\, and blues and is characterized by poignant\, thoughtful lyrics and soothing yet powerful vocals. He has an expansive internet presence\, with over 2.5 million cumulative views on YouTube\, and has two full-length studio albums\, “A Bigger Picture” (2014) and “Two” (2015). He’s opened for British legend Joan Armatrading on multiple occasions\, was named a 2015 Artist of the Year by Concerts In Your Home\, has toured in Europe and Canada\, and is slated to tour in Australia in 2016. \nFacebook.com/MattBednarsky \nhttp://www.mattbednarsky.comhttp://
URL:https://alte-molkerei.info/event/livehautnah-matt-bednarsky-us/
LOCATION:NRW
ATTACH;FMTTYPE=image/jpeg:https://alte-molkerei.info/wp-content/uploads/2025/07/livehautnah-matt-bednarsky-us.jpg
END:VEVENT
END:VCALENDAR