BEGIN:VCALENDAR
VERSION:2.0
PRODID:-//Kulturort Alte Molkerei - ECPv6.15.20//NONSGML v1.0//EN
CALSCALE:GREGORIAN
METHOD:PUBLISH
X-WR-CALNAME:Kulturort Alte Molkerei
X-ORIGINAL-URL:https://alte-molkerei.info
X-WR-CALDESC:Veranstaltungen für Kulturort Alte Molkerei
REFRESH-INTERVAL;VALUE=DURATION:PT1H
X-Robots-Tag:noindex
X-PUBLISHED-TTL:PT1H
BEGIN:VTIMEZONE
TZID:Europe/Berlin
BEGIN:DAYLIGHT
TZOFFSETFROM:+0100
TZOFFSETTO:+0200
TZNAME:CEST
DTSTART:20160327T010000
END:DAYLIGHT
BEGIN:STANDARD
TZOFFSETFROM:+0200
TZOFFSETTO:+0100
TZNAME:CET
DTSTART:20161030T010000
END:STANDARD
BEGIN:DAYLIGHT
TZOFFSETFROM:+0100
TZOFFSETTO:+0200
TZNAME:CEST
DTSTART:20170326T010000
END:DAYLIGHT
BEGIN:STANDARD
TZOFFSETFROM:+0200
TZOFFSETTO:+0100
TZNAME:CET
DTSTART:20171029T010000
END:STANDARD
BEGIN:DAYLIGHT
TZOFFSETFROM:+0100
TZOFFSETTO:+0200
TZNAME:CEST
DTSTART:20180325T010000
END:DAYLIGHT
BEGIN:STANDARD
TZOFFSETFROM:+0200
TZOFFSETTO:+0100
TZNAME:CET
DTSTART:20181028T010000
END:STANDARD
END:VTIMEZONE
BEGIN:VEVENT
DTSTART;TZID=Europe/Berlin:20170401T210000
DTEND;TZID=Europe/Berlin:20170401T210000
DTSTAMP:20260422T114015
CREATED:20250706T125349Z
LAST-MODIFIED:20250706T125349Z
UID:2938-1491080400-1491080400@alte-molkerei.info
SUMMARY:GRANDSHEIKS - playing the Music of FRANK ZAPPA
DESCRIPTION:GRANDSHEIKS – playing the Music of FRANK ZAPPA„Näher kann man dem avantgardistischen Genie Zappa nicht kommen!“(Trierer Volksfreund\, 02.12.2012) \nThe GRANDSHEIKS are:Maximilian Hilbrand (lead vocals) Daniel Guggenheim (sax\, keyb)Jörg „Doc“ Heuser (guitar\, vocals) Thomas Schmittinger (guitar\, vocals)Andi Mertens (bass\, vocals) Christian Majdecki (drums) \nDie GRANDSHEIKS\, hervorgegangen aus der legendären Zappa-Tribute-Band „Sheik Yerbouti“\, lassen Zappas geniale Kompositionen auf höchstem Niveau auferstehen. Mit leidenschaftlicher Spielfreude\, ausgefeilten Interpretationen\, raffinierten eigenen Arrangements und viel zappa-typischem Erfindungsgeist begeistern sie Fans und Kritiker gleichermassen. Ihre Gäste waren Ex-Zappa-Mitstreiter wie Mike Keneally\, Ed Mann\, Robert Martin\, Denny Walley und natürlich „Grandmother“ Napoleon Murphy Brock (zuletzt mit den Grandsheiks auf Europatour im Oktober 2015). Sie alle sind beeindruckt vom musikalischen Können der Band und deren feinem Gespür für Zappa’s unvergleichlichen Humor. Die Musikwelt ist sich einig:„The Grandsheiks are Grandmasters of Zappa-music!“ \nDiskographie:demnächt: DVD PRISONERS (live\, Halloween 2015)DUNGEON OF DESPAIR (live\, 2014)FLIES ALL GREEN AND BUZZIN‘ (live 2012) \nDie Presse urteilt:„Die „Scheichs“ ziehen das Publikum in Zappas Bann. Das Sextett lässt die unsterblichen Zappa-Nummern frisch aufleben und erntet stürmischen Applaus!“(Rhein-Zeitung)„Zappa für Kenner und Einsteiger. Die sechs Profis vermitteln die Genialität des Originals mit musikalischer Klasse und leidenschaftlicher Kreativität. Näher kann man dem avantgardistischen Genie Zappa nicht kommen!“(Trierer Volksfreund) \nhttp.//www.grandsheiks.de
URL:https://alte-molkerei.info/event/grandsheiks-playing-the-music-of-frank-zappa/
LOCATION:NRW
ATTACH;FMTTYPE=image/jpeg:https://alte-molkerei.info/wp-content/uploads/2025/07/grandsheiks-playing-the-music-of-frank-zappa53.jpg
END:VEVENT
BEGIN:VEVENT
DTSTART;TZID=Europe/Berlin:20170403T200000
DTEND;TZID=Europe/Berlin:20170403T200000
DTSTAMP:20260422T114015
CREATED:20250706T125355Z
LAST-MODIFIED:20250706T125355Z
UID:2942-1491249600-1491249600@alte-molkerei.info
SUMMARY:Klangkosmos NRW  Weltmusikkonzert Vardan Hovanassian (Armenien) und  Emre Gültekin (Türkei)
DESCRIPTION:!Tickets nur an der Abendkasse! \nWenn sich melancholische Klänge der armenischen Oboe Duduk mit den sensiblen Schwingungen der türkischen Bardenlaute Saz kunstvoll verweben\, dann sind aufgeklärte Künstler die Meister der Zeremonie\, die ein tragisches Kapitel der Weltgeschichte musikalisch transzendieren. \nVardan Hovanissian lernte unter dem grossen Duduk Meister Khachik Khachatryan in der armenischen Hauptstadt Yerevan und entwickelte sich seit dem zum talentierten Botschafter der uralten Oboe aus Aprikosenholz\, die die Seele Armeniens repräsentiert. \nVor mehr als zehn Jahren fand er einen musikalischen Seelenverwandten in Emre Gültekin\, der von Talip Özkan und seinem Vater\, dem Barden Lütfü Gültekin in die Kunst der anatolischen Saz eingeführt wurde. \nEine Freundschaft kann Grenzen überwinden. So ist „Adana“\, der Titel ihrer gemeinsamen CD und ihres Konzertprogramms kein bloßer Verweis auf die Stadt\, in der vor einem Jahrhundert die armenische Tragödie des Genozid stattfand. Adana steht auch für die Hoffnung der Musiker\, dass Armenier\, Kurden und Türken in Harmonie leben können. \nAdana symbolisiert Versöhnung und Freundschaft zwischen Kulturen\, die viele Gemeinsamkeiten und Wurzeln haben. \nDas harmonische Spiel der armenischen und türkischen Liedtexte mit dem melancholischen Ton des armenischen Duduk und der Virtuosität der kurdisch-anatolischen Saz zeigt\, dass es machbar ist\, die Geschichte in etwas Positives zu verwandeln. \nVardan Hovanissian – Duduk \nEmre Gültekin – Saz\, Baglama\, Gesang
URL:https://alte-molkerei.info/event/klangkosmos-nrw-weltmusikkonzert-vardan-hovanassian-armenien-und-emre-gueltekin-tuerkei/
LOCATION:NRW
ATTACH;FMTTYPE=image/jpeg:https://alte-molkerei.info/wp-content/uploads/2025/07/klangkosmos-nrw-weltmusikkonzert-vardan-hovanassian-armenien-und-emre-gltekin-trkei.jpg
END:VEVENT
BEGIN:VEVENT
DTSTART;TZID=Europe/Berlin:20170407T210000
DTEND;TZID=Europe/Berlin:20170407T210000
DTSTAMP:20260422T114015
CREATED:20250706T125357Z
LAST-MODIFIED:20250706T125357Z
UID:2944-1491598800-1491598800@alte-molkerei.info
SUMMARY:Haranni Hurricanes & Lanko Bluesnight
DESCRIPTION:Haranni Hurricanes \nBlooze’n Rock mitten aus’m PottMitten im Revier\, im so genannten Emscher Delta des Ruhrgebiets\, in der Stadt Herne (mittelalterlich: „Haranni“) gründeten wir die Haranni Hurricanes vor rund zehn Jahren. Seitdem rocken wir die hiesigen Clubs und Kneipen und auch die Live-Bühnen der angrenzenden Städte und Gemeinden mit ihren kompromisslosen „Pott-Blooze’n-Rock“. \nIn jährlich bis zu 40 Auftritten präsentieren sie seit dieser Zeit ein breit gefächertes Programm aus Rhythm’n Blues\, Swing\, Rock und Shuffles in einer Mischung aus überwiegend eigenen Stücken\, einschlägigen Covers undselbstarrangierten (sprich: „hurricanifizierten“) Interpretationen.In klassischer Besetzung an Gitarre\, Schlagzeug und Bass wird ein kompromissloser\, schnörkelloser\, intensiver und rockiger Texas-Boogie-Sound produziert mit stampfenden Grooves von Bass und Schlagzeug und rauen\, ungeschliffenen Gitarrenriffs\, die jede Hütte in den Grundfesten erschüttern und jede Scheune ins Wanken bringen. Hier ist der Name noch Programm. Für eine Konzertteilnahme empfiehlt es sich\, Mützen und Ölzeugmitzubringen\, denn es herrscht orkanartigerGegenwind. \nDie Haranni Hurricanes sind:Bernd „Thunder“ Rademacher​-​Drums\, VocalsRalf „Texas“ Bernschein​-​Guitars\, VocalsAndré „Rumblin`“ Frin​​-​Bass\, VocalsDiscographie: Texas Tools (©2003); Second Blow (©2005); Watcha Hear Is Watcha Get (©2007); Blow Out (©2009)Rock On (©2012); Ridin’ (©2013); Black Cadillac (©2016)CD (5\,00 Euro zzgl. Versand) anfordern bei: www.haranni-hurricanes.de \nLANKO \nLanko ist eine international besetzte Musikformation\, seit Gründung der Band im Jahre 2006 wächst die Fangemeinde stetig\, denn der Mix aus bluesigen\, jazzigen Eigenkompositionen und Interpretationen von legendären Songs von ebenso legendären Songwritern begeistert das Publikum ebenso wie die Interpretationen von finnischen Tangos aus der Heimat des Gitarristen und Sängers Kees Cuypers. Am Kontrabass zu bestaunen ist Mr. Bert Thompson (USA)\, welcher schon zusammen mit Ray Charles\, Dizzy Gillespie\, Chet Baker\, Lionel Hampton u.v.m. musizierte. Frank Schut\, mit seiner unvergleichlichen Bluesstimme\, spielt Gitarre und singt\, Stefan Janßen bedient das Schlagwerk und der aus Polen stammendeDave Tchorz mit Saxofon und Akkordeon wird besondere Noten demabwechslungsreichen musikalischen Treiben beisteuern\, letzterer auch bekanntals langjähriger Arrangeur und Orchesterleiter des unvergessenen Harald Juhnke.Frank Schut: Gitarren\, Gesang & HarpKees Cuypers: Gitarren\, Gesang & MandolineDave Tchorz: Saxofone\, Akkordeon & DiversesBert Thompson: KontrabassStefan Janßen: SchlagzeugWeitere Informationen\, Videos und Hörbeispiele sind auf der Homepagewww.lanko-music.deoder bei facebook unter lanko@lankomusic zu finden. \nhttp://www.haranni-hurricanes.dehttp://www.lanko-music.de
URL:https://alte-molkerei.info/event/haranni-hurricanes-lanko-bluesnight/
LOCATION:NRW
ATTACH;FMTTYPE=image/jpeg:https://alte-molkerei.info/wp-content/uploads/2025/07/haranni-hurricanes-lanko-bluesnight.jpg
END:VEVENT
BEGIN:VEVENT
DTSTART;TZID=Europe/Berlin:20170408T193000
DTEND;TZID=Europe/Berlin:20170408T193000
DTSTAMP:20260422T114015
CREATED:20250706T125800Z
LAST-MODIFIED:20250706T125800Z
UID:2946-1491679800-1491679800@alte-molkerei.info
SUMMARY:For the Heartless Vol 3
DESCRIPTION:!Tickets nur an der Abendkasse! \nFor the Heartless \n…ist der Titel unserer Metal-Naechte! \nUnd zum 3. Mal öffnen wir nun die Pforten für die Metal-Fans. \nIrgendwo zwischen Hard-Core und Death-Core bewegen sich die 4 Bands der heutigen Nacht… \n…mit: \nRETURNER aus Koeln \nBlack Gulls aus Bocholt \nBURNT \nDEVOTION \nund zwei weiteren SURPRISE-GIGS!
URL:https://alte-molkerei.info/event/for-the-heartless-vol-3/
LOCATION:NRW
ATTACH;FMTTYPE=image/jpeg:https://alte-molkerei.info/wp-content/uploads/2025/07/for-the-heartless-vol-3.jpg
END:VEVENT
BEGIN:VEVENT
DTSTART;TZID=Europe/Berlin:20170415T210000
DTEND;TZID=Europe/Berlin:20170415T210000
DTSTAMP:20260422T114015
CREATED:20250706T125803Z
LAST-MODIFIED:20250706T125803Z
UID:2948-1492290000-1492290000@alte-molkerei.info
SUMMARY:Dieselknecht & Flying Colours Acoustic Trio
DESCRIPTION:DIESELKNECHT \nDer Bandname verspricht rauhe Kerle\, dicke Reifen und dröhnende Motoren. Tatsächlich wuchsen dreiviertel der Band irgendwo auf dem Land zwischen Ibbenbüren und Osnabrück auf – mit Heavy Metal und Punkrock – dann kamen die Jungs nach Dortmund und lernten Bluegrass lieben…. \nNach satten drei Studio-Alben bringen DIESELKNECHT im Jahr 2015 eine Serie von fünf Vinyl-Singles unter die Leute: Neben dem für die Band typischen Stampf aus vergorenem Highspeed-Blugrass und Folk bildet die Serie nun alle Farben der Band textlich und musikalisch ab. Laut\, leise\, gut und…sehr gut.DIESELKNECHT sind eine Liveband und entsprechend unruhig. Schwerpunkte ihrer Touren lagen dabei in NRW\, dem Süden/Südwesten der Republik und Berlin. Stets nach der Devise: Unplugged und immer unter Strom!Nun wurde die besondere Qualität der Band im Kultursender ARTE gewürdigt (siehe: Metropolreport Ruhrgebiet). Diese Band ist gegen den Strich gebürstet! \nFLYING COLOURS ACOUSTIC TRIO \nDas Flying Colours Acoustic Trio besteht seit dem Frühling 2016.Die beiden Musiker Peter Schilmöller (Gitarre) und Carsten Hölscher (Kontrabass) machen schon mehr als fünfzehn Jahre zusammen Musik und fanden mit der Sängerin Nikki Hirs eine hervorragende „Frontfrau“ für akustisches Trio. \nIhre Herangehensweise ist ganz einfach: Sie spielen alles was ihnen gefällt.Ein frisches Programm aus Pop\, Soul\, Rock’n Roll\, Country und Jazz.Auf ihre eigene Art und Weise ist das Spiel sehr groovebetont\, spontan und lässt immer Platz für Improvisation. \nEin hörenswerter Abend! \nhttp://www.dieselknecht.com
URL:https://alte-molkerei.info/event/dieselknecht-flying-colours-acoustic-trio/
LOCATION:NRW
ATTACH;FMTTYPE=image/jpeg:https://alte-molkerei.info/wp-content/uploads/2025/07/dieselknecht-flying-colours-acoustic-trio24.jpg
END:VEVENT
BEGIN:VEVENT
DTSTART;TZID=Europe/Berlin:20170419T203000
DTEND;TZID=Europe/Berlin:20170419T203000
DTSTAMP:20260422T114015
CREATED:20250706T125806Z
LAST-MODIFIED:20250706T125806Z
UID:2950-1492633800-1492633800@alte-molkerei.info
SUMMARY:SONiA Rutstein aka disappear fear
DESCRIPTION:SONiA Rutstein aka disappear fear \nVom Opernhaus in Sydney über Schutzräume in Israel bis zum Woody Guthrie Festival\, überall in den Vereinigten Staaten und auf dem Globus begeistert die mehrfach in der ersten Runde Grammy nominierte Singer / Songwriterin SONiA ihr Publikum.Durch ihre Auftritte mit ihrer SONiA Santa Cruz Gitarre\, mit Piano\, Mundharmonika oder mit vollständiger Band wird sie häufig als „weiblicher Dylan“ beschrieben.Auch wenn dieser Vergleich unpassend ist\, so ist viel an dieser Maid aus Baltimore\, die in Hebräisch\, Spanisch\, Englisch und Arabisch singt.Was  aus SONiA SONiA macht\, sind ihre energiereichen Texte\, verpackt in ihren einzigartigen Stil voller Passion und Hoffnung.Sie hat die Bühne schon mit einigen ihrer Helden wie Bruce Springsteen\, Pete Seeger und Chris Thiele geteilt. Ihre stolzesten Momente hatte sie\, als sie mit Peter\, Paul and Mary 2002 am Lincoln Memorial sang und 2012 während einer Deutschland-Tournee von der US Army die Ehrenmedaille für ihre humanitären Lieder erhielt.SONiA / disappear fear hat eine wachsende Fan-Gemeinde in mehr als 20 Ländern\, wo sie ihre Lieder aus Rock\, Folk\, Country\, Latin\, Blues und Reggae singt. Über eine halbe Millionen CDs hat sie verkauft. Die Ehrlichkeit ihrer Songs berührt die Herzen und Gedanken aller Zuhörer\, mit einem breiten Spektrum sozialer und ethnischer Hintergründe\, basierend auf der Prämisse:„Wenn Du die Angst zwischen den Leuten verscheuchst\, erhältst Du Liebe.“(„When you disappear fear between people what you have is love“.) \n \nwww.soniadisappearfear.com
URL:https://alte-molkerei.info/event/sonia-rutstein-aka-disappear-fear/
LOCATION:NRW
ATTACH;FMTTYPE=image/jpeg:https://alte-molkerei.info/wp-content/uploads/2025/07/sonia-rutstein-aka-disappear-fear35.jpg
END:VEVENT
BEGIN:VEVENT
DTSTART;TZID=Europe/Berlin:20170421T200000
DTEND;TZID=Europe/Berlin:20170421T200000
DTSTAMP:20260422T114015
CREATED:20250706T125809Z
LAST-MODIFIED:20250706T125809Z
UID:2952-1492804800-1492804800@alte-molkerei.info
SUMMARY:Maxi Gstettenbauer „Maxipedia“
DESCRIPTION:Maxi Gstettenbauer„Maxipedia“ Diesmal widmet sich der überzeugte Stubenhocker dem analogen Leben jenseits der Matrix. Im Laufeseines neuen Programms „Maxipedia“ traut er sich zentimeterweise ins Sonnenlicht. Was er dortwohl findet?Wir leben in einer Zeit\, in der jeder nach sich selbst googlet aber nichts findet. Wissen ist out. Wofürsoll man sich schon etwas merken\, wenn man den kompletten Brockhaus in der Hosentasche hat?„Maxipedia“ ist der digitale Knigge für Jedermann und beantwortet die wichtigsten Fragen von heute.Was ist ein Hipster und wie ignoriert man ihn?Unzählige Zuschauer sind von Maxis Auftritten begeistert und sagen zu Recht „Gefällt mir!“Stefan Raab bezeichnete ihn jüngst als „der kommende Stern am Comedy-Himmel“.Nach zahlreichen TV-Auftritten nerdet sich der bayerische Karofetischist weiter durch die Comedy-Welt..Auszeichnungen1. Platz NDR Comedy Contest 20131. Platz Kleinkunstpreis Ostfriesland 20131. Platz Hamburger Comedy Pokal 20131. Platz Comedy Slam Hamburg 20121. Platz Constantin-Comedy-Preis Trier 20112. Platz Bielefelder Kabarettpreis3. Platz Stuttgarter Besen 2013
URL:https://alte-molkerei.info/event/maxi-gstettenbauer-maxipedia/
LOCATION:NRW
ATTACH;FMTTYPE=image/jpeg:https://alte-molkerei.info/wp-content/uploads/2025/07/maxi-gstettenbauer-maxipedia.jpg
END:VEVENT
BEGIN:VEVENT
DTSTART;TZID=Europe/Berlin:20170422T210000
DTEND;TZID=Europe/Berlin:20170422T210000
DTSTAMP:20260422T114015
CREATED:20250706T125811Z
LAST-MODIFIED:20250706T125811Z
UID:2954-1492894800-1492894800@alte-molkerei.info
SUMMARY:2PEACES & ten double FÄLLT AUS! 10.6. NACHHOLTERMIN
DESCRIPTION:!Tickets nur an der Abendkasse! \n2PEACES \nDie Band “2PEACES“\, hervorgegangen aus der Band“ EX“\, musizieren  zusammen seit 2013 in folgender Besetzung:Christiana Russe         GesangErich Seidel                 GitarreFranz Josef Belting     BassOlaf Handschuh          SchlagwerkGernot Ulbing             Harmonica \nWir versuchen Rock- und Bluesklassiker von Künstlern wie  z.B  Peter Green\, Rory Gallagher\, Cream\, Allmann Brothers mit ihrem teilweise rauem Charme wiederzugeben und auf unsere eigene Weise zu interpretieren. Das Bestreben ist die Musik und das Lebensgefühl einer vergangenen Ära nachzuempfinden und dem Publikum näher zu bringen. \nten double \n„ten double“ – covert eine Mischung aus ihren persönlichen Lieblingsliedern.Dahinter stecken vier Musiker aus Bocholt und Rhede\, die eigene Interpretationen vom klassischen Rock`n Roll bis hin zu Rhytm`n Blues spielen.Alle vier Musiker haben in der Vergangenheit in verschiedenen Bands Erfahrungen gesammelt und wollen nun – nach längerer Zeit- gemeinsam wieder Musik auf die Bühne bringen.Die Band setzt sich zusammen aus Stakko (git) und den Brüdern Ecke (harp/voc)\, Jerry (bass) und Maxe Wegener (dr/voc). Unterstützt werden sie hierbei von Werner am Mischpult.Spaß\, feiern und gute Laune das ist die Devise von „ten doubel“.
URL:https://alte-molkerei.info/event/2peaces-ten-double-faellt-aus-10-6-nachholtermin/
LOCATION:NRW
ATTACH;FMTTYPE=image/jpeg:https://alte-molkerei.info/wp-content/uploads/2025/07/2peaces-ten-double.jpg
END:VEVENT
END:VCALENDAR