BEGIN:VCALENDAR
VERSION:2.0
PRODID:-//Kulturort Alte Molkerei - ECPv6.15.20//NONSGML v1.0//EN
CALSCALE:GREGORIAN
METHOD:PUBLISH
X-WR-CALNAME:Kulturort Alte Molkerei
X-ORIGINAL-URL:https://alte-molkerei.info
X-WR-CALDESC:Veranstaltungen für Kulturort Alte Molkerei
REFRESH-INTERVAL;VALUE=DURATION:PT1H
X-Robots-Tag:noindex
X-PUBLISHED-TTL:PT1H
BEGIN:VTIMEZONE
TZID:Europe/Berlin
BEGIN:DAYLIGHT
TZOFFSETFROM:+0100
TZOFFSETTO:+0200
TZNAME:CEST
DTSTART:20160327T010000
END:DAYLIGHT
BEGIN:STANDARD
TZOFFSETFROM:+0200
TZOFFSETTO:+0100
TZNAME:CET
DTSTART:20161030T010000
END:STANDARD
BEGIN:DAYLIGHT
TZOFFSETFROM:+0100
TZOFFSETTO:+0200
TZNAME:CEST
DTSTART:20170326T010000
END:DAYLIGHT
BEGIN:STANDARD
TZOFFSETFROM:+0200
TZOFFSETTO:+0100
TZNAME:CET
DTSTART:20171029T010000
END:STANDARD
BEGIN:DAYLIGHT
TZOFFSETFROM:+0100
TZOFFSETTO:+0200
TZNAME:CEST
DTSTART:20180325T010000
END:DAYLIGHT
BEGIN:STANDARD
TZOFFSETFROM:+0200
TZOFFSETTO:+0100
TZNAME:CET
DTSTART:20181028T010000
END:STANDARD
END:VTIMEZONE
BEGIN:VEVENT
DTSTART;TZID=Europe/Berlin:20170304T200000
DTEND;TZID=Europe/Berlin:20170304T200000
DTSTAMP:20260422T130512
CREATED:20250706T125321Z
LAST-MODIFIED:20250706T125321Z
UID:2918-1488657600-1488657600@alte-molkerei.info
SUMMARY:Passion For Piano
DESCRIPTION:„Passion For Piano“Nach seinem ausverkauften Konzert „Welcome To The Games“\, das 2014 im Musiktheater im Revier mit namhaften Künstlern aus der lokalen Musikszene überregionale Beachtung fand\, präsentiert der Gelsenkirchener Pianist und Komponist Torben Beerboom seit dem Frühjahr 2016 nun deutschlandweit sein neues Konzertprogramm „Passion For Piano“. Begleitet wird er auch dieses Mal von bekannten und neuen Weggefährten\, darunter die ehemalige „MiR“-Sängerin Richetta Manager sowie der Schlagzeuger Marcus Schulz und der brasilianische Tänzer Danilo Cardoso. Die Zuschauer können sich wieder auf eine abwechslungsreiche Show freuen. Ob emotionale Balladen oder rockige Uptempo-Songs\, das Publikum erwartet wieder Pop-Musik mit dem gewissen Etwas.Einen Vorgeschmack in Form eines Live-Mitschnitts des mitreißenden Konzerts gibt’s auf dem Youtube Kanal von Torben Beerboom sowie auf seiner Homepage www.torben-beerboom.de . Hier findet man auch weitere beeindruckende Musikvideos vor der Industriekulisse des Ruhrgebiets. So hat Torben Beerboom u.a. mit der Ballade „Gentle Harmony“ und dem Up-Tempo Song „Adventure“ zwei seiner neuen Stücke am Tetraeder in Bottrop als Musikvideos eingespielt. Für die Filmaufnahmen hat er seinen Flügel sowie jede Menge technisches Equipment auf die Halde hoch über Bottrop geschleppt – und der Aufwand hat sich gelohnt.Am 04.03.2017 gastiert Torben Beerboom erstmals in der Alten Molkerei Bocholt. Freuen Sie sich auf einen mitreißenden Abend\, der lange nachwirkt und musikalische Kreativität einer jungen Generation in einem neuem Licht zeigt. \nhttps://www.tixforgigs.com/site/Pages/Shop/ShowEvent.aspx?ID=19211http://www.torben-beerboom.de/https://www.youtube.com/watch?v=6ZWnmak_5mM
URL:https://alte-molkerei.info/event/passion-for-piano/
LOCATION:NRW
ATTACH;FMTTYPE=image/jpeg:https://alte-molkerei.info/wp-content/uploads/2025/07/passion-for-piano50.jpg
END:VEVENT
BEGIN:VEVENT
DTSTART;TZID=Europe/Berlin:20170310T200000
DTEND;TZID=Europe/Berlin:20170310T200000
DTSTAMP:20260422T130512
CREATED:20250706T125324Z
LAST-MODIFIED:20250706T125324Z
UID:2920-1489176000-1489176000@alte-molkerei.info
SUMMARY:Piaf & Marlene
DESCRIPTION:Piaf & Marlene \nDie Vorstellung „Piaf & Marlene“ wurde  im Jahr 2015 ins Leben gerufen und hatte ihre Premiere im berühmten Filmtheater „Lichtburg“ in Essen. Wir erinnern uns bei diesen Soirées auch an den 100. Geburtstag von Edith Piaf (geb. am 19. Dezember 1915).Der blaue Engel und der Spatz von Paris haben sich im Angesicht jeweils der Anderen erkannt. Beide sind dem Chanson treu ergeben. Beide haben sich geliebt.„Marlene\, vergiss es nie\, dass ich Dich liebe“\, schrieb Edith an Marlene.Als Marlene Dietrich ihre Freundin Edith Piaf\, die gerade ein Fiasko als Chansonsängerin auf den amerikanischen Bühnen durchlebte\, vor einem ihrer Auftritte ankündigte\, war dies ausgezeichnete Werbung und trug maßgeblich zu Ediths darauf folgenden Erfolg bei. Marlene war Ediths Trauzeugin in New York\, kümmerte sich um ihre Drogen-\, Alkohol- und Männerprobleme und überlebte Piaf um viele Jahre. Sie sind so verschieden wie auch ähnlich in ihrer Passion für die Kunst des Chansons. \nSie sind herzlich eingeladen\, eine Soirée voll von Gesang und Kunst zu erleben und in die zauberhafte Welt des Chansons vergangener Zeiten als auch eigen komponierter Lieder einzutauchen. \nMorin Smolé (in der Rolle von Marlene Dietrich und Edith Piaf)Robert Dißelmeyer (in der Rolle von Peter am Piano) \nhttps://www.tixforgigs.com/site/Pages/Shop/ShowEvent.aspx?ID=19212
URL:https://alte-molkerei.info/event/piaf-marlene/
LOCATION:NRW
ATTACH;FMTTYPE=image/jpeg:https://alte-molkerei.info/wp-content/uploads/2025/07/piaf-marlene.jpg
END:VEVENT
BEGIN:VEVENT
DTSTART;TZID=Europe/Berlin:20170313T203000
DTEND;TZID=Europe/Berlin:20170313T203000
DTSTAMP:20260422T130512
CREATED:20250706T125327Z
LAST-MODIFIED:20250706T125327Z
UID:2922-1489437000-1489437000@alte-molkerei.info
SUMMARY:MAIDA VALE (Swe)
DESCRIPTION:Die Schwedinnen von MaidaVale sind der groovigste Stern\, der derzeit den Himmel des Heavy Psychedelic Rock erklimmt. Ihr Debüt-Album ‘Tales of the Wicked West’ wurde im August 2016 von The Sign Records veröffentlicht. Die erste Pressung war bereits nach wenigen Wochen vergriffen\, das Album selbst wurde von allen Seiten für seine Originalität gefeiert. \n„In ‚Tales Of The Wicked West’ they break with convention and stir a dynamic funk into the hard rock mix\, which many forget was a big part of the music of the seventies. The nine captivating songs deliver on originality in a way that is seldom achieved in contemporary recordings.“ - Doomed and Stoned Magazine \nSo gar nicht altbacken und doch voller Respekt vor den Genre-Größen schickt sich „Tales of the wicked West“ an\, der heimliche Gewinner unter den diesjährigen Bluesrock-Veröffentlichungen zu werden. Auf dass die Schwedinnen demnächst auch hierzulande die Konzerthallen füllen. - Plattentest.de \n„Children of the Terrascope Nation\, trust me on this one. You are going to LOVE it. From the opening wah-wah guitar scream of the riff-laden ‘(If You Want the Smoke) Be the Fire” to the closing five-star ten-minute instrumental bliss-out that is ‘Heaven and Earth’\, which doesn’t merely spruce up Funkadelic’s majestic ‘Maggot Brain’ with an overhaul and a new lick of paint\, but pimps it up handsomely with new wings\, go-faster stripes and even furry dice\, this album is utterly brilliant.” – Terrascope Magazine \nhttps://www.facebook.com/maidavaleswe/www.youtube.com/watch?v=IxKJbU03GS4
URL:https://alte-molkerei.info/event/maida-vale-swe/
LOCATION:NRW
ATTACH;FMTTYPE=image/jpeg:https://alte-molkerei.info/wp-content/uploads/2025/07/maida-vale-swe9.jpg
END:VEVENT
BEGIN:VEVENT
DTSTART;TZID=Europe/Berlin:20170315T203000
DTEND;TZID=Europe/Berlin:20170315T203000
DTSTAMP:20260422T130512
CREATED:20250706T125329Z
LAST-MODIFIED:20250706T125329Z
UID:2924-1489609800-1489609800@alte-molkerei.info
SUMMARY:LiVe&hautnah mit Northern Skin
DESCRIPTION:Eintritt FREI ! \nEine Spendenkanne für die Künstler geht um. \n„live&hautnah“ mit Northern Skin / Popmusik mit Jazzeinflüssen  \nBlonde Haare\, blaue Augen\, heller Teint – all das beschreibt die junge Songwriterin aus Hamburg\, die einst hinaus in die Welt zog\, um sich vom Leben inspirieren zu lassen. Ihr nächster Halt war Enschede\, wo sie sich aus Versehen für ein Jazzstudium einschrieb. „Jazz\, was ist das eigentlich?“\, dachte sie sich und folgte ihrem Schicksal. Dabei traf sie auf viele interessante Musiker\, die aus ihren zunächst rudimentär gespielten Songs etwas Wunderschönes entstehen ließen. Beeinflusst von diesem Sound schrieb sie weitere Songs\, gespickt mit farbenreichen Akkorden\, kleinen\, im Kopf hängen bleibenden Melodien\, Drum-Grooves\, die mit den Songs nicht besser verschmelzen könnten – und das alles mit viel Liebe zum Detail. Warum sich also zwischen Pop und Jazz entscheiden\, wenn man beides doch so wunderbar miteinander verbinden kann? 2016 nahmen Northern Skin ihre erste CD „On The Ocean“ in der Fattoria Musica in Osnabrück auf. Die CD ist eine Reise zwischen Pop und Jazz. Es wird Wert auf Natürlichkeit und Klang gelegt\, alles ist live eingespielt\, ohne Overdubs\, so wie die Band auch auf der Bühne spielt. Esther’s Songwriting ist geprägt von skandinavischen und isländischen Musikern wie u.a. Soley\, Hanne Hukkelberg und Sigur Ros.Besetzung: \nEsther-Marija Stemmer – vocals/songwritingHenning Neidhardt – piano / rhodesAlex Florin – guitarSimon Eggert – drums \nNorthern Skin / Popmusik mit Jazzeinflüssen info@northernskin.de / 0176 – 84111917
URL:https://alte-molkerei.info/event/livehautnah-mit-northern-skin/
LOCATION:NRW
ATTACH;FMTTYPE=image/jpeg:https://alte-molkerei.info/wp-content/uploads/2025/07/livehautnah-mit-northern-skin.jpg
END:VEVENT
BEGIN:VEVENT
DTSTART;TZID=Europe/Berlin:20170316T190000
DTEND;TZID=Europe/Berlin:20170316T190000
DTSTAMP:20260422T130512
CREATED:20250706T125332Z
LAST-MODIFIED:20250706T125332Z
UID:2926-1489690800-1489690800@alte-molkerei.info
SUMMARY:Ausstellung  Monika Bischoff-Alispahic
DESCRIPTION:Monika Bischoff-Alispahic \ngeb. 1948 in Bocholt \n Autodidaktin; \nWorkshops/Seminare in VHS/ Fotokreis Bocholt. \nAusstellungen: mit dem Fotokreis Bocholt; im Kneipp-Verein; Alte Molkerei Bocholt.Besondere Herausforderung war für mich die Ablichtung von Frauen in der \ninterkulturellen Medienwerkstatt mit Portraits für die Postkarten-Herstellung „Willkommen in Bocholt“.Schon als junges Mädchen hatte ich ein Faible für die Fotografie\, Malerei und Verse schreiben. \nMein Sport war Bogenschießen\, weil man mental gut abschalten konnte. Mit Eintritt ins Rentenalter istdie Fotografie meine große Leidenschaft geworden.Dabei möchte ich so viele Seiten der Fotografie wie möglich kennenlemen. Für mich besonders interessant sind: Makro\, Portrait\, Tier\, Landschaft\, Architektur\, Sport\, Eventfotografie und Berichte darüber in Bocholt live. \nMeine Erwartungen an mich treiben mich voran.
URL:https://alte-molkerei.info/event/ausstellung-monika-bischoff-alispahic/
LOCATION:NRW
ATTACH;FMTTYPE=image/jpeg:https://alte-molkerei.info/wp-content/uploads/2025/07/ausstellung-monika-bischoff-alispahic40.jpg
END:VEVENT
BEGIN:VEVENT
DTSTART;TZID=Europe/Berlin:20170317T200000
DTEND;TZID=Europe/Berlin:20170317T200000
DTSTAMP:20260422T130512
CREATED:20250706T125335Z
LAST-MODIFIED:20250706T125335Z
UID:2928-1489780800-1489780800@alte-molkerei.info
SUMMARY:Seminar Der Islam und die Frauen Zwischen Tradition und Mo derne
DESCRIPTION:!Tickets nur an der Abendkasse! \nReferentin: Frau Dr. Heidi Oberndorf \nModeration: Senay Duzcu \nIn Zusammenarbeit mit dem Arbeitskreis Asyl\, der Frauenbrücke Ost -West e.V.\, der Willkommen-in-Bocholt-Gruppe und dem Verein Kulturort Alte Molkerei wird dieser Vortrag in einem besonderen Rahmen stattfinden. \nEine Studie des Bundesamtes für Migration und Flüchtlinge belegt\, dass christliche und muslimische Migrantinnen und Migranten in Deutschland bei Geschlechterrollen ähnliche Vorstellungen haben und sich für Gleichberechtigung aussprechen. \nTraditionelle Geschlechterrollen haben beim Großteil aller Bevölkerungsgruppen nach wie vor Bestand. \nIn diesem Vortrag werden wir aber einmal genauer hinsehen und uns gezielt mit dem Frauenbild im Islam und der historischen Entwicklung des islamischen Feminismus auseinandersetzen. \nDie bekannte Ethno- Kabarettistin Senay Duzcu moderiert uns durch den Abend. \nMonika Bischoff-Alispa gibt dem Abend mit ihrer Fotokunst auch bildlich einen Rahmen.
URL:https://alte-molkerei.info/event/seminar-der-islam-und-die-frauen-zwischen-tradition-und-mo-derne/
LOCATION:NRW
ATTACH;FMTTYPE=image/jpeg:https://alte-molkerei.info/wp-content/uploads/2025/07/seminar-der-islam-und-die-frauen-zwischen-tradition-und-mo-derne.jpg
END:VEVENT
BEGIN:VEVENT
DTSTART;TZID=Europe/Berlin:20170318T200000
DTEND;TZID=Europe/Berlin:20170318T200000
DTSTAMP:20260422T130512
CREATED:20250706T125337Z
LAST-MODIFIED:20250706T125337Z
UID:2930-1489867200-1489867200@alte-molkerei.info
SUMMARY:WDR 5 präsentiert die   Liederlounge live
DESCRIPTION: SENDUNG auf WDR5 am 23.4. und 30.4.2017 um jeweils 21.05 Uhr\, am 28.4. und 5.5.2017 jeweils um 22.05 Uhr \nDas wird ein stimmungsvoller Abend mit außergewöhnlichen Liedermachern: Die Liederlounge live kommt wieder in die Alte Molkerei!Der Dortmunder Liedermacher Murat Kayi und seine Band musizieren\, improvisieren und duellieren sich im Interview-Schlagabtausch mit ihren Gästen Matze Rossi und dem Duo Berge. Ruhrpottblues und Weltschmerz treffen auf Countryfolk und Hippiefröhlichkeit. \nMurat Kayi ist Sänger\, Liedermacher\, Autor\, Kabarettist\, Kind des Ruhrgebiets und spielt zahlreiche Instrumente. In „Liederlounge live“ präsentieren Kayi und seine Gäste nicht nur eigene Songs\, sondern versuchen sich auch an gemeinsamen Lieblingsliedern oder vertonen ganz spontan\, was ihnen so unter die Augen kommt. Natürlich werden die Instrumente auch beim Jam-Session-Talk nicht aus den Händen gelegt und sogar das Publikum darf seine poetische Ader ausleben.Matze Rossi kommt aus Schweinfurt und ist seit über 20 Jahren auf den Bühnen des Landes unterwegs. Zunächst auf Hunderten von Konzerten als Sänger einer Punk-Band\, bis er entdeckte\, dass er immer häufiger Lieder schrieb\, die dafür nicht taugten. Und so schafft er – inzwischen allein mit Gitarre – wunderbar intime musikalische Momente von großer Intensität. Auch schon im WDR Rockpalast und bei Circus Halligalli.Berge sind ein junges Liedermacher-Duo aus Berlin. Marianne Neumann und Rocco Horn schreiben mitreißend fröhliche Lieder\, in denen sie das Leben\, die Natur und die Liebe feiern. Sie bezeichnen sich selbst als „Großstadthippies“ und „sind beseelt von der Hoffnung\, dass Musik nicht nur sprechen\, sondern etwas verändern kann“. Nicht nur deshalb schickte das Goethe Institut sie auch schon u.a. nach Russland\, Kasachstan und Litauen.
URL:https://alte-molkerei.info/event/wdr-5-praesentiert-die-liederlounge-live/
LOCATION:NRW
ATTACH;FMTTYPE=image/jpeg:https://alte-molkerei.info/wp-content/uploads/2025/07/wdr-5-prsentiert-die-liederlounge-live44.jpg
END:VEVENT
BEGIN:VEVENT
DTSTART;TZID=Europe/Berlin:20170319T170000
DTEND;TZID=Europe/Berlin:20170319T170000
DTSTAMP:20260422T130512
CREATED:20250706T125340Z
LAST-MODIFIED:20250706T125340Z
UID:2932-1489942800-1489942800@alte-molkerei.info
SUMMARY:Das wüsst ich aber !!FÄLLT AUS!!
DESCRIPTION:Kabarettistische Texte \nvon und mit \nMickey van Kampen\, \nmusikalisch umrahmt und pointiert von \nRuth Sandhagen (Gesang) \nund \nGregory Gaynair (Klavier). \nDas Programm ist die Auseinandersetzung mit tolerantem und intoleranten Denken\, bezogen auf die sozial-politischen Probleme im Großen und Ganzen aber auch im Kleinen auf die zwischenmenschlichen Unzulänglichkeiten im Alltag.
URL:https://alte-molkerei.info/event/das-wuesst-ich-aber-faellt-aus/
LOCATION:NRW
ATTACH;FMTTYPE=image/jpeg:https://alte-molkerei.info/wp-content/uploads/2025/07/das-wsst-ich-aber.jpg
END:VEVENT
BEGIN:VEVENT
DTSTART;TZID=Europe/Berlin:20170324T200000
DTEND;TZID=Europe/Berlin:20170324T200000
DTSTAMP:20260422T130512
CREATED:20250706T125343Z
LAST-MODIFIED:20250706T125343Z
UID:2934-1490385600-1490385600@alte-molkerei.info
SUMMARY:Hennes Bender 'Luft nach oben'
DESCRIPTION:Auf seiner neuen Tour präsentiert sich der quirlige Komiker aus dem Ruhrgebiet wieder wie er lebt undleibt. Dabei hat der „Hobbit auf Speed“ auch in seinem verflixten siebten Programm wie stets viel LUFTNACH OBEN\, misst er doch nach neuesten Messungen ein Meter zweiundsechzig. Der Titel bedeutetaber auch\, dass immer noch „was geht“\, noch längst nicht alle Möglichkeiten ausgeschöpft sind und nochimmer reichlich Spiel ist an der Stellschraube des alltäglichen Irrsinns. Oft wird Hennes gefragt\, was das Publikum bei seinen Auftritten erwarten darf. Ganz einfach: einenumtriebigen\, auf Radau gebügelten gesellschaftskritischen Kabarettisten mit latentem Hang zum Unfugund einer popkulturellen Verstrahlung\, die von Shakespeare bis Spongebob reicht. Auch wenn Hennes Bender im Laufe der LUFT NACH OBEN-Tour 2016 –18 die Fünfzig erreichenwird\, kann von Altersmilde keine Rede sein. Wer etwas anderes erwartet ist auf dem Holzdampfer.
URL:https://alte-molkerei.info/event/hennes-bender-luft-nach-oben/
LOCATION:NRW
ATTACH;FMTTYPE=image/jpeg:https://alte-molkerei.info/wp-content/uploads/2025/07/hennes-bender-luft-nach-oben.jpg
END:VEVENT
BEGIN:VEVENT
DTSTART;TZID=Europe/Berlin:20170331T200000
DTEND;TZID=Europe/Berlin:20170331T200000
DTSTAMP:20260422T130512
CREATED:20250706T125346Z
LAST-MODIFIED:20250706T125346Z
UID:2936-1490990400-1490990400@alte-molkerei.info
SUMMARY:Heike Rotherm !!!FÄLLT AUS!!!
DESCRIPTION:!!!!!!!!!!!!!!!FÄLLT AUS!!!!!!!!!!!!! Heike Rotherm live    Querschnitt durch unterschiedliche Musikrichtungen E- und U-Musik trennen? Warum? Das fragt sich Heike Rotherm schon lange. Seitdem sie in derWelt der Musik unterwegs ist\, versucht Heike verschiedene Stilrichtungen zu verbinden. Als Leiterin verschiedener Chöre und Ensembles gibt Heike Konzerte im In- und Ausland.Aber auch als Solokünstlerin für Orgel\, Akkordeon\, Klavier und Gesang ist Heike regelmäßig zu hören. Bei diesem Konzert in der Alten Molkerei möchte sie den Beweis erbringen\, dass „Mozart“ und„Jazz“ sehr gut zusammen passen\, Klassik\, Pop\, Jazz\, Tango und Weltmusik sich gegenseitig bereichern und den besten Stoff für ein abwechslungsreiches Konzert liefern. Auf ihren Lieblingsinstrumenten Klavier\, Orgel und Akkordeon wird Heike „ihre“ Lieblingsstücke sowie Eigenkompositionen und -Arrangements singen und spielen. Ihren Spaß an der Vielfalt der Musik möchte Heike gerne mit ihrem Publikum teilen und die Zuschauer dazu einladen\, sich auf „neue“ „alte“ Klänge einzulassen\, die hier sowohl altvertraut erklingen als auch teilweise ganz neu interpretiert und eingekleidet werden.Viel Spaß dabei! \nFÃ„LLT AUS
URL:https://alte-molkerei.info/event/heike-rotherm-faellt-aus/
LOCATION:NRW
ATTACH;FMTTYPE=image/jpeg:https://alte-molkerei.info/wp-content/uploads/2025/07/heike-rotherm-live-querschnitt-durch-unterschiedliche-musikrichtungen.jpg
END:VEVENT
END:VCALENDAR