BEGIN:VCALENDAR
VERSION:2.0
PRODID:-//Kulturort Alte Molkerei - ECPv6.15.20//NONSGML v1.0//EN
CALSCALE:GREGORIAN
METHOD:PUBLISH
X-WR-CALNAME:Kulturort Alte Molkerei
X-ORIGINAL-URL:https://alte-molkerei.info
X-WR-CALDESC:Veranstaltungen für Kulturort Alte Molkerei
REFRESH-INTERVAL;VALUE=DURATION:PT1H
X-Robots-Tag:noindex
X-PUBLISHED-TTL:PT1H
BEGIN:VTIMEZONE
TZID:Europe/Berlin
BEGIN:DAYLIGHT
TZOFFSETFROM:+0100
TZOFFSETTO:+0200
TZNAME:CEST
DTSTART:20230326T010000
END:DAYLIGHT
BEGIN:STANDARD
TZOFFSETFROM:+0200
TZOFFSETTO:+0100
TZNAME:CET
DTSTART:20231029T010000
END:STANDARD
BEGIN:DAYLIGHT
TZOFFSETFROM:+0100
TZOFFSETTO:+0200
TZNAME:CEST
DTSTART:20240331T010000
END:DAYLIGHT
BEGIN:STANDARD
TZOFFSETFROM:+0200
TZOFFSETTO:+0100
TZNAME:CET
DTSTART:20241027T010000
END:STANDARD
BEGIN:DAYLIGHT
TZOFFSETFROM:+0100
TZOFFSETTO:+0200
TZNAME:CEST
DTSTART:20250330T010000
END:DAYLIGHT
BEGIN:STANDARD
TZOFFSETFROM:+0200
TZOFFSETTO:+0100
TZNAME:CET
DTSTART:20251026T010000
END:STANDARD
END:VTIMEZONE
BEGIN:VEVENT
DTSTART;TZID=Europe/Berlin:20240406T200000
DTEND;TZID=Europe/Berlin:20240406T200000
DTSTAMP:20260420T120306
CREATED:20250706T150651Z
LAST-MODIFIED:20250706T150651Z
UID:3915-1712433600-1712433600@alte-molkerei.info
SUMMARY:Rocknacht: Talking Machine + Coming Down
DESCRIPTION: \nTalking Machine\nAlternative Rock aus Düsseldorf\n+\nComing Down\nModern Rock aus dem Ruhrgebiet\n  \nTickets sind erhältlich ab November 2023 in den örtlichen Vorverkaufsstellen Touristinfo\, Theaterbüro und BBV Bocholt  \nund bereits jetzt online unter www.tixforgigs.com/de-DE/Event/50136 \n  \n \nTalking Machine (Alternativerock)\n  \n Bei Talking Machine treffen Grunge Gitarren auf Indie-Pop-Melodien und Post-Rock Einflüsse. Der charakteristische Gesang erinnert an Alice in Chains\, während die Drummerin mit lässiger Rock Attitude hinter dem Schlagzeug sitzt. Melodische Gitarren und verzerrte bis verspielte Basslicks sorgen dafür\, dass aus dem Seattle Sound moderner Alternative Rock wird. \n  \n Mit Holger vom Bruch als neuem Sänger hat sich die Düsseldorfer Band um Marc Daniels (git)\, Patrick Labussek (bass) und Laura Siedlarek (drums) neu formiert. Seit 2022 sind sie mit komplett neuem Songmaterial und ihrer EP „Tomorrow“ zurück. Für den gleichnamigen Titelsong wurden sie vom WDR2 zur besten Band im Westen gekürt. \n www.talkingmachine.de \nComing down\n  \nEhrlich\, echt\, eingängig\, …einfach gut!!! In ihr Programm bringen die 5 Musiker aus dem Ruhrgebiet alles ein\, was sie selbst unter guter\, handgemachter Rockmusik verstehen. Durch ihre vielfältigen musikalischen Einflüsse bekommen die Songs ihren eigenständigen Charakter und sind dadurch doch einfach „anders“. \nEgal ob „Pommesgabel“ oder Feuerzeug\, ob „abgehen“ oder einfach nur zuhören. \nMarvin Gesierich singt mal hart\, mal zart und holt dich ab\, um mittendrin statt nur dabei zu sein. Marc Püttmann und Rainer Ritgen bringen dir mit fetten Gitarren das passende Ambiente. Chris Pohlmann am schmatzenden Bass und Jonas Klostermann an den Drums bilden das groovende Fundament für deinen Bauch. \nwww.coming-down.de \nwww.tixforgigs.com/de-DE/Event/50136www.talkingmachine.dehttps://youtu.be/8VXjSfhaqzchttps://youtu.be/wo4cyceBU-s
URL:https://alte-molkerei.info/event/rocknacht-talking-machine-coming-down/
ATTACH;FMTTYPE=image/jpeg:https://alte-molkerei.info/wp-content/uploads/2025/07/talking-machine-alternative-rock96.jpg
END:VEVENT
END:VCALENDAR