BEGIN:VCALENDAR
VERSION:2.0
PRODID:-//Kulturort Alte Molkerei - ECPv6.15.20//NONSGML v1.0//EN
CALSCALE:GREGORIAN
METHOD:PUBLISH
X-WR-CALNAME:Kulturort Alte Molkerei
X-ORIGINAL-URL:https://alte-molkerei.info
X-WR-CALDESC:Veranstaltungen für Kulturort Alte Molkerei
REFRESH-INTERVAL;VALUE=DURATION:PT1H
X-Robots-Tag:noindex
X-PUBLISHED-TTL:PT1H
BEGIN:VTIMEZONE
TZID:Europe/Berlin
BEGIN:DAYLIGHT
TZOFFSETFROM:+0100
TZOFFSETTO:+0200
TZNAME:CEST
DTSTART:20230326T010000
END:DAYLIGHT
BEGIN:STANDARD
TZOFFSETFROM:+0200
TZOFFSETTO:+0100
TZNAME:CET
DTSTART:20231029T010000
END:STANDARD
BEGIN:DAYLIGHT
TZOFFSETFROM:+0100
TZOFFSETTO:+0200
TZNAME:CEST
DTSTART:20240331T010000
END:DAYLIGHT
BEGIN:STANDARD
TZOFFSETFROM:+0200
TZOFFSETTO:+0100
TZNAME:CET
DTSTART:20241027T010000
END:STANDARD
BEGIN:DAYLIGHT
TZOFFSETFROM:+0100
TZOFFSETTO:+0200
TZNAME:CEST
DTSTART:20250330T010000
END:DAYLIGHT
BEGIN:STANDARD
TZOFFSETFROM:+0200
TZOFFSETTO:+0100
TZNAME:CET
DTSTART:20251026T010000
END:STANDARD
END:VTIMEZONE
BEGIN:VEVENT
DTSTART;TZID=Europe/Berlin:20240608T200000
DTEND;TZID=Europe/Berlin:20240608T200000
DTSTAMP:20260424T155355
CREATED:20250706T145347Z
LAST-MODIFIED:20250706T145347Z
UID:3815-1717876800-1717876800@alte-molkerei.info
SUMMARY:More Barn - Die Alternative Country-\, Americana-\, Folk-Band
DESCRIPTION:More Barn\nDie Alternative Country-\, Americana-\, Folk-Band\n  \nTickets sind erhältlich ab Dezember 2023 im örtlichen Vorverkauf (Touristinfo\, Theaterbüro und BBV Bocholt) und schon jetzt online unter\nwww.tixforgigs.com/de-DE/Event/46444/more-barn-die-alternative-country-americana-folk-band-freier-kulturort-alte-m \n„More Barn – ein elektrisch-akustisches Rockfolkfeuerwerk mit Twang!\nDie Rockband „More Barn“ garniert ihren ureigenen Americana-Cocktail mit akustischen Instrumenten wie Mandoline\, Kontrabass und Harmonica sowie elektrischer Lapsteel. Ein Sound zwischen den Rockgewittern eines Neil Young und den harmonischen Folksongs eines Ryan Adams – vielfältig\, hörenswert und selbstgemacht!“ \n „Die Alternative Country-\, Americana-\, Folk-Band  „More Barn“ wurde 2010 gegründet. Ursprünglich als Neil Young-Coverprojekt angedacht\, entwickelte sich schnell eine Dynamik\, die zu der eigenständigen Band in ihrer jetzigen Form führte. Nach Audio- und Videoaufnahmen sowie vielfältigen Club- und Open-Air-Gigs in NRW veröffentlichte die Band 2019 ihr erstes Album.  Das Live-Set besteht vornehmlich aus Eigenkompositionen. Einige eingestreute Coverversionen von Künstlern wie Neil Young\, Ryan Adams und Brian Fallon runden das Programm ab. Die Musiker sind: Christian Kock (Gesang\, Gitarre\, Harmonica)\, Jürgen Tripp (Bass\, Gesang)\, Hendrik Buddensiek (Schlagzeug) und Christian Schulz-Blut (Gitarre\, Lap Steel\, Mandoline\, Gesang).“ \n  \n  \nwww.morebarn.dewww.tixforgigs.com/de-DE/Event/46444/more-barn-die-alternative-country-americana-folk-band-freier-kulturort-alte-m
URL:https://alte-molkerei.info/event/more-barn-die-alternative-country-americana-folk-band/
ATTACH;FMTTYPE=image/jpeg:https://alte-molkerei.info/wp-content/uploads/2025/07/more-barn.jpg
END:VEVENT
END:VCALENDAR