BEGIN:VCALENDAR
VERSION:2.0
PRODID:-//Kulturort Alte Molkerei - ECPv6.15.20//NONSGML v1.0//EN
CALSCALE:GREGORIAN
METHOD:PUBLISH
X-WR-CALNAME:Kulturort Alte Molkerei
X-ORIGINAL-URL:https://alte-molkerei.info
X-WR-CALDESC:Veranstaltungen für Kulturort Alte Molkerei
REFRESH-INTERVAL;VALUE=DURATION:PT1H
X-Robots-Tag:noindex
X-PUBLISHED-TTL:PT1H
BEGIN:VTIMEZONE
TZID:Europe/Berlin
BEGIN:DAYLIGHT
TZOFFSETFROM:+0100
TZOFFSETTO:+0200
TZNAME:CEST
DTSTART:20230326T010000
END:DAYLIGHT
BEGIN:STANDARD
TZOFFSETFROM:+0200
TZOFFSETTO:+0100
TZNAME:CET
DTSTART:20231029T010000
END:STANDARD
BEGIN:DAYLIGHT
TZOFFSETFROM:+0100
TZOFFSETTO:+0200
TZNAME:CEST
DTSTART:20240331T010000
END:DAYLIGHT
BEGIN:STANDARD
TZOFFSETFROM:+0200
TZOFFSETTO:+0100
TZNAME:CET
DTSTART:20241027T010000
END:STANDARD
BEGIN:DAYLIGHT
TZOFFSETFROM:+0100
TZOFFSETTO:+0200
TZNAME:CEST
DTSTART:20250330T010000
END:DAYLIGHT
BEGIN:STANDARD
TZOFFSETFROM:+0200
TZOFFSETTO:+0100
TZNAME:CET
DTSTART:20251026T010000
END:STANDARD
END:VTIMEZONE
BEGIN:VEVENT
DTSTART;TZID=Europe/Berlin:20240605T200000
DTEND;TZID=Europe/Berlin:20240605T200000
DTSTAMP:20260424T185113
CREATED:20250706T150739Z
LAST-MODIFIED:20250706T150739Z
UID:3951-1717617600-1717617600@alte-molkerei.info
SUMMARY:LIVE & HAUTNAH: Edy Edwards Trio (Rock/Blues)
DESCRIPTION: \nEdy Edwards Trio\n  \nWenn Rock und Blues im Hier und Jetzt angekommen sind\, ist viel erlaubt und noch mehr möglich. Genau diese Freiheit nutzt der junge Mann mit Entertainerqualitäten\, der auf den Namen Edy Edwards hört\, wo er nur kann.Die Wurzeln aus Rock\, Blues und Americana sind allgegenwärtig und klar zu hören. Seine musikalische Früherziehung hat ihn geprägt\, von Robert Johnson über John Lee Hooker\, die Rolling Stones\, bis hin zu Led Zeppelin – und sie haben Spuren hinterlassen. Gepaart mit modernen Einflüssen aus Pop bis hin zu elektronischer Musik hat Edy einen eigenen Stilkultiviert. Diese spannende Mixtur ist nicht unbedingt neu\, mit diesen Zutaten sind die Black Keys\, Jack White oder Kaleo weit gekommen\, mit deutschen Texten\, ist das Ganze nahezu ungehört. Die Texte sind mal blumenreich und bitter\, dann wieder frech und geradeaus\, aber immer mitten aus dem Leben. Eben genau wie Edy selbst − schwer einzuordnen und überraschend. Das Bindeglied in seinem Schaffen ist seine einprägsame Stimme\, die es ihm erlaubt\, sich musikalisch immer neu zu erfinden und neue Wege zu beschreiten.Die Fachpresse schrieb viel über den Newcomer und sein Debüt-Album „MEDIENAPPLAUS“.«…echtes Rockfeeling in herrlich dreckigem Sound…» Weltmusik-Magazin«…Medienapplaus – hier ist er…» Musikmagazin SchallNachdem er für dieses Album fast ausschließlich mit studierten Berufsmusikern (Ian Stewart\, Henning Leise\, Daniel McLaine\, Karl Overman) zusammengearbeitet hat\, hat er im Zuge der Arbeit an dem Folge-Album „KAUF“ (VÖ 2019) eine neue Band zusammengestellt. An den Drums des Power-Trios sitzt Dale Lohse und die Position am Bass übernimmt Dennis Kazakis. Dass der Ausruf «das groovt wie Hölle» auch hier zu Lande seine Berechtigung hat\, stellt diese Rhythmusgruppe beeindruckend zur Schau.Edy: «Ich freue mich sehr\, mit frischem Blut neue Erfahrungen zu machen und die Bühnen der Republik zu entern. » Überall\, wo das Edy Edwards Trio aufschlägt\, heisst es live − laut − vollverstromt.Seit Frühjahr 2016 ist Edy solo oder mit Band auf „Immer Unterwegs Tour“\, die wohl so schnell nicht enden wird. Der Tourplan fasst mittlerweile weit über 300 Konzerte und es ist kein Stillstand in Sicht. Edy und seine Band haben ihre Qualitäten mehrfach unter Beweis gestellt − u.a. als Vorprogramm für STOPPOK und Extrabreit oder auf etablierten Festivals\, wie Bochum Total oder dem Zeltvestival Ruhr.Auch wenn die Band-Konzerte immer mehr werden und auch das neue Album „KAUF“ wieder ein Band-Album ist\, spielt Edy immer noch viele akustische Konzerte. Hier verlässt er sich ganz auf sein Songwriting und die Eckpfeiler seines Handwerks − seine Stimme und die Gitarre.«… und dass Edwards selbst nicht nur ein starker Sänger\, sondern auch ein erstklassiger Gitarrist ist\, zeigt er mit seinem variablen Saitenspiel…» Good TimesWo sich andere Gitarristen mit der Technik herumschlagen\, hat Edy seine Freiheit gefunden. Für ihn geht es nicht darum\, möglichst filigran oder schnell zu sein\, sondern einzig und allein um den Transport von Leidenschaft und Emotionen. Ob alleine oder mit Band ist ihm eine kindliche Spielfreude anzusehen\, die einfach ansteckt. Diese fast schon naive Losgelöstheit versprüht eine Kraft und Energie\, der man sich nicht entziehen kann. \n http://www.edy-edwards.de/ \nwww.youtube.com/watch?v=76mrvXvM7lw \n  \nhttp://www.edy-edwards.de/www.youtube.com/watch?v=76mrvXvM7lw
URL:https://alte-molkerei.info/event/live-hautnah-edy-edwards-trio-rock-blues/
ATTACH;FMTTYPE=image/jpeg:https://alte-molkerei.info/wp-content/uploads/2025/07/05062024-live-hautnah-edy-edwards-trio.jpg
END:VEVENT
END:VCALENDAR