BEGIN:VCALENDAR
VERSION:2.0
PRODID:-//Kulturort Alte Molkerei - ECPv6.15.20//NONSGML v1.0//EN
CALSCALE:GREGORIAN
METHOD:PUBLISH
X-WR-CALNAME:Kulturort Alte Molkerei
X-ORIGINAL-URL:https://alte-molkerei.info
X-WR-CALDESC:Veranstaltungen für Kulturort Alte Molkerei
REFRESH-INTERVAL;VALUE=DURATION:PT1H
X-Robots-Tag:noindex
X-PUBLISHED-TTL:PT1H
BEGIN:VTIMEZONE
TZID:Europe/Berlin
BEGIN:DAYLIGHT
TZOFFSETFROM:+0100
TZOFFSETTO:+0200
TZNAME:CEST
DTSTART:20160327T010000
END:DAYLIGHT
BEGIN:STANDARD
TZOFFSETFROM:+0200
TZOFFSETTO:+0100
TZNAME:CET
DTSTART:20161030T010000
END:STANDARD
BEGIN:DAYLIGHT
TZOFFSETFROM:+0100
TZOFFSETTO:+0200
TZNAME:CEST
DTSTART:20170326T010000
END:DAYLIGHT
BEGIN:STANDARD
TZOFFSETFROM:+0200
TZOFFSETTO:+0100
TZNAME:CET
DTSTART:20171029T010000
END:STANDARD
BEGIN:DAYLIGHT
TZOFFSETFROM:+0100
TZOFFSETTO:+0200
TZNAME:CEST
DTSTART:20180325T010000
END:DAYLIGHT
BEGIN:STANDARD
TZOFFSETFROM:+0200
TZOFFSETTO:+0100
TZNAME:CET
DTSTART:20181028T010000
END:STANDARD
END:VTIMEZONE
BEGIN:VEVENT
DTSTART;TZID=Europe/Berlin:20170610T210000
DTEND;TZID=Europe/Berlin:20170610T210000
DTSTAMP:20260420T102548
CREATED:20250706T125838Z
LAST-MODIFIED:20250706T125838Z
UID:2974-1497128400-1497128400@alte-molkerei.info
SUMMARY:HOMEGROWN mit 2PEACES und ten double
DESCRIPTION:Karten nur an der Abendkasse!2PEACES Die Band “2PEACES“\, hervorgegangen aus der Band“ EX“\, musizieren zusammen seit 2013 in folgender Besetzung: Christiana Russe Gesang Erich Seidel Gitarre Franz Josef Belting Bass Olaf Handschuh Schlagwerk Gernot Ulbing Harmonica Wir versuchen Rock- und Bluesklassiker von Künstlern wie z.B Peter Green\, Rory Gallagher\, Cream\, Allmann Brothers mit ihrem teilweise rauem Charme wiederzugeben und auf unsere eigene Weise zu interpretieren. Das Bestreben ist die Musik und das Lebensgefühl einer vergangenen Ära nachzuempfinden und dem Publikum näher zu bringen. \n ten double „ten double“ – covert eine Mischung aus ihren persönlichen Lieblingsliedern. Dahinter stecken vier Musiker aus Bocholt und Rhede\, die eigene Interpretationen vom klassischen Rock`n Roll bis hin zu Rhytm`n Blues spielen. Alle vier Musiker haben in der Vergangenheit in verschiedenen Bands Erfahrungen gesammelt und wollen nun – nach längerer Zeit- gemeinsam wieder Musik auf die Bühne bringen. Die Band setzt sich zusammen aus Stakko (git) und den Brüdern Ecke (harp/voc)\, Jerry (bass) und Maxe Wegener (dr/voc). Unterstützt werden sie hierbei von Werner am Mischpult. \n Spaß\, feiern und gute Laune das ist die Devise von „ten doubel“.
URL:https://alte-molkerei.info/event/homegrown-mit-2peaces-und-ten-double/
ATTACH;FMTTYPE=image/jpeg:https://alte-molkerei.info/wp-content/uploads/2025/07/homegrown-mit-2peaces-und-ten-double.jpg
END:VEVENT
END:VCALENDAR