BEGIN:VCALENDAR
VERSION:2.0
PRODID:-//Kulturort Alte Molkerei - ECPv6.15.20//NONSGML v1.0//EN
CALSCALE:GREGORIAN
METHOD:PUBLISH
X-WR-CALNAME:Kulturort Alte Molkerei
X-ORIGINAL-URL:https://alte-molkerei.info
X-WR-CALDESC:Veranstaltungen für Kulturort Alte Molkerei
REFRESH-INTERVAL;VALUE=DURATION:PT1H
X-Robots-Tag:noindex
X-PUBLISHED-TTL:PT1H
BEGIN:VTIMEZONE
TZID:Europe/Berlin
BEGIN:DAYLIGHT
TZOFFSETFROM:+0100
TZOFFSETTO:+0200
TZNAME:CEST
DTSTART:20230326T010000
END:DAYLIGHT
BEGIN:STANDARD
TZOFFSETFROM:+0200
TZOFFSETTO:+0100
TZNAME:CET
DTSTART:20231029T010000
END:STANDARD
BEGIN:DAYLIGHT
TZOFFSETFROM:+0100
TZOFFSETTO:+0200
TZNAME:CEST
DTSTART:20240331T010000
END:DAYLIGHT
BEGIN:STANDARD
TZOFFSETFROM:+0200
TZOFFSETTO:+0100
TZNAME:CET
DTSTART:20241027T010000
END:STANDARD
BEGIN:DAYLIGHT
TZOFFSETFROM:+0100
TZOFFSETTO:+0200
TZNAME:CEST
DTSTART:20250330T010000
END:DAYLIGHT
BEGIN:STANDARD
TZOFFSETFROM:+0200
TZOFFSETTO:+0100
TZNAME:CET
DTSTART:20251026T010000
END:STANDARD
END:VTIMEZONE
BEGIN:VEVENT
DTSTART;TZID=Europe/Berlin:20240928T190000
DTEND;TZID=Europe/Berlin:20240928T190000
DTSTAMP:20260422T130543
CREATED:20250706T151006Z
LAST-MODIFIED:20250706T151006Z
UID:4039-1727550000-1727550000@alte-molkerei.info
SUMMARY:For the heartless Vol. 9
DESCRIPTION:For the heartless Vol. 9\nTickets sind erhältlich ab Mai 2024 in den örtlichen Vorverkaufsstellen\nTouristinfo\, Theaterbüro und BBV Bocholt\nund schon jetzt online unter\nwww.tixforgigs.com/de-de/Event/55868\n  \nAm 28.9.2024 heißt es erneut Abriss!!! \nDie Konzertreihe for the heartless ist mit ihrer 9. Ausgabe Gast und präsentiert einen Abend voller Metallcore und Djent.  \n  \nDieses Jahr werden euch 5 Bands durch den Abend führen.  \nEröffnen wird diesen die Band Mechanical Bloodlines aus Wesel.  \nDie Junge Metalcore Band wird an diesem Abend das erste Mal ihre Songs live performen und mit diesen die Alte Molkerei aufwecken.  \n  \nWeiter geht es mit den Kölschen Jungs von Reversionists. Die 2016 gegründete Band wird den Abend mit einer Mischung aus Progressivem Metalcore und Deathcore bereichern.  \n  \nDurch die Metalcore / Deathcore Band Our Burden to Prevail wird die hiesige Szene vertreten und zeigt sich im neuen Gewand. Neben deutschen Texten darf sich das Publikum über mitreißende Melodien und eingängige Riffs freuen.  \n  \nErneut dabei sind We are Perspectives. Die Bottrop Deathcore Truppe wird die Besucher durch energische Songs und eine sphärische Bühnenshow durch den Abend führen.  \n  \nAbgeschlossen wird der Abend durch die Alternative Metalcore Combo Avalanche Effect.  \nDie Münsteraner / Dortmunder Jungs teilten sich u.a. mit Atreyu und Landmvrks die Bühne und konnten auf zahlreichen Festivals die Gäste für sich begeistern \n  \nwww.tixforgigs.com/de-de/Event/55868
URL:https://alte-molkerei.info/event/for-the-heartless-vol-9/
ATTACH;FMTTYPE=image/png:https://alte-molkerei.info/wp-content/uploads/2025/07/for-the-heartless-vol-9.png
END:VEVENT
END:VCALENDAR