BEGIN:VCALENDAR
VERSION:2.0
PRODID:-//Kulturort Alte Molkerei - ECPv6.15.20//NONSGML v1.0//EN
CALSCALE:GREGORIAN
METHOD:PUBLISH
X-WR-CALNAME:Kulturort Alte Molkerei
X-ORIGINAL-URL:https://alte-molkerei.info
X-WR-CALDESC:Veranstaltungen für Kulturort Alte Molkerei
REFRESH-INTERVAL;VALUE=DURATION:PT1H
X-Robots-Tag:noindex
X-PUBLISHED-TTL:PT1H
BEGIN:VTIMEZONE
TZID:Europe/Berlin
BEGIN:DAYLIGHT
TZOFFSETFROM:+0100
TZOFFSETTO:+0200
TZNAME:CEST
DTSTART:20240331T010000
END:DAYLIGHT
BEGIN:STANDARD
TZOFFSETFROM:+0200
TZOFFSETTO:+0100
TZNAME:CET
DTSTART:20241027T010000
END:STANDARD
BEGIN:DAYLIGHT
TZOFFSETFROM:+0100
TZOFFSETTO:+0200
TZNAME:CEST
DTSTART:20250330T010000
END:DAYLIGHT
BEGIN:STANDARD
TZOFFSETFROM:+0200
TZOFFSETTO:+0100
TZNAME:CET
DTSTART:20251026T010000
END:STANDARD
BEGIN:DAYLIGHT
TZOFFSETFROM:+0100
TZOFFSETTO:+0200
TZNAME:CEST
DTSTART:20260329T010000
END:DAYLIGHT
BEGIN:STANDARD
TZOFFSETFROM:+0200
TZOFFSETTO:+0100
TZNAME:CET
DTSTART:20261025T010000
END:STANDARD
END:VTIMEZONE
BEGIN:VEVENT
DTSTART;TZID=Europe/Berlin:20251214T200000
DTEND;TZID=Europe/Berlin:20251214T200000
DTSTAMP:20260420T173046
CREATED:20250518T163013Z
LAST-MODIFIED:20251026T070616Z
UID:2413-1765742400-1765742400@alte-molkerei.info
SUMMARY:Die einzig wahre Weihnachtsgeschichte (14.12.25)
DESCRIPTION:So.\, 14.12.25\nBeginn: 20:00 h\nVVK Einzelkarte: 18\,00 EUR\, VVK Einzelkarte (erm.): 15\,00 EUR\nAK Einzelkarte: 20\,00 EUR\, AK Einzelkarte (erm.): 17\,00 EUR \n\n\n\nDie einzig wahre Weihnachtsgeschichte \nvon Habers\, Küper\, Schmeink\, Melzow\nproduziert von der Bocholter Bühne\npräsentiert vom Kulturort Alte Mollkerei \nDrei Männer\, die es genießen sich erneut auf die Bühne wagen\, um dort zum großen Amusement des Publikums zu streiten. Aber sie versöhnen sich auch gerne immer wieder\, denn schließlich geht es ja um die einzig wahre Weihnachtsgeschichte. Immer fällt einem der Drei etwas anderes ein\, was noch zu erzählen wäre\, wobei der Kern der Geschichte unangetastet bleibt. Die ausgelassene Umsetzung\, Querverweise und Korrekturen erfreuen das Publikum\, denn die Drei sind meisterlich in den Anschlüssen\, dem „Timing“ und haben selbst unermesslichen Spaß an ihrem Treiben.\nFreude am Spiel\, an der Publikumsreaktion und spontanes Reagieren darauf sind die Zutaten\, die Jens Habers\, Phillip Küper und Christian Schmeink\, aufmerksam studiert von ihrem Regisseur Ralf Melzow\, mit denen sie unsere Herzen und Lachmuskeln erfreuen. So bekomen die stillen und leisen Momente im Stück ihren Anteil und sie rühren unsere Herzen an.\nWenn die Lachtränen den Blick verschleiern\, das Publikum vor Freude kreischt\, oder mit einem Mal ganz still und aufmerksam gefangen vor Spannung ist\, dann ist das komödiantisches Theater in seiner schönsten und ausgelassensten Form. \nTickets sind erhältlich ab Mai 2025 in den örtlichen Vorverkaufsstellen Touristinfo\, Theaterbüro und BBV Bocholt und online unter https://www.tixforgigs.com/de-DE/Event/64413/die-einzig-wahre-weihnachtsgeschichte-freier-kulturort-alte-molkerei-e-v-bocholt \n  \nErmäßigte Ticketpreise gelten für Schülerinnen und Schüler gegen Vorlage des Schülerausweises und für Studierende gegen Vorlage des Studentenausweises.\nErmäßigte Tickets sind nur in den örtlichen Vorverkaufsstellen erhältlich. \n\n\nWeitere Infos:\nhttps://www.tixforgigs.com/de-DE/Event/64413/die-einzig-wahre-weihnachtsgeschichte-freier-kulturort-alte-molkerei-e-v-bocholt
URL:https://alte-molkerei.info/event/die-einzig-wahre-weihnachtsgeschichte-14-12-25/
LOCATION:Freie Kulturort Alte Molkerei e.V.\, Werther Str. 16\, Bocholt\, NRW\, 46395\, Germany
CATEGORIES:2025
ATTACH;FMTTYPE=image/jpeg:https://alte-molkerei.info/wp-content/uploads/2025/05/die-einzig-wahre-weihnachtsgeschichte94.jpg
END:VEVENT
END:VCALENDAR