BEGIN:VCALENDAR
VERSION:2.0
PRODID:-//Kulturort Alte Molkerei - ECPv6.15.20//NONSGML v1.0//EN
CALSCALE:GREGORIAN
METHOD:PUBLISH
X-WR-CALNAME:Kulturort Alte Molkerei
X-ORIGINAL-URL:https://alte-molkerei.info
X-WR-CALDESC:Veranstaltungen für Kulturort Alte Molkerei
REFRESH-INTERVAL;VALUE=DURATION:PT1H
X-Robots-Tag:noindex
X-PUBLISHED-TTL:PT1H
BEGIN:VTIMEZONE
TZID:Europe/Berlin
BEGIN:DAYLIGHT
TZOFFSETFROM:+0100
TZOFFSETTO:+0200
TZNAME:CEST
DTSTART:20140330T010000
END:DAYLIGHT
BEGIN:STANDARD
TZOFFSETFROM:+0200
TZOFFSETTO:+0100
TZNAME:CET
DTSTART:20141026T010000
END:STANDARD
BEGIN:DAYLIGHT
TZOFFSETFROM:+0100
TZOFFSETTO:+0200
TZNAME:CEST
DTSTART:20150329T010000
END:DAYLIGHT
BEGIN:STANDARD
TZOFFSETFROM:+0200
TZOFFSETTO:+0100
TZNAME:CET
DTSTART:20151025T010000
END:STANDARD
BEGIN:DAYLIGHT
TZOFFSETFROM:+0100
TZOFFSETTO:+0200
TZNAME:CEST
DTSTART:20160327T010000
END:DAYLIGHT
BEGIN:STANDARD
TZOFFSETFROM:+0200
TZOFFSETTO:+0100
TZNAME:CET
DTSTART:20161030T010000
END:STANDARD
END:VTIMEZONE
BEGIN:VEVENT
DTSTART;TZID=Europe/Berlin:20151118T203000
DTEND;TZID=Europe/Berlin:20151118T203000
DTSTAMP:20260420T101611
CREATED:20250617T161308Z
LAST-MODIFIED:20250617T161356Z
UID:2552-1447878600-1447878600@alte-molkerei.info
SUMMARY:Brigitte Möllers & Chris Paus 'LiVe&hautnah'
DESCRIPTION:  \nKinder und Hausmärchen?\nEine Stiefmutter\, die ihrem Stiefsohn den Kopf abschlägt. \nEin Vater\, der seinen eigenen Sohn aufisst. \nEine Szene aus einem Horrorfilm? Weit gefehlt. Eine Passage aus einem grimmschen Märchen! \nMehr davon werden an diesem Abend von der Geschichtenerzählerin Brigitte Möllers mit musikalischer Begleitung durch den Musiker Chris Paus präsentiert.
URL:https://alte-molkerei.info/event/brigitte-ma%c2%b6llers-chris-paus-livehautnah/
ATTACH;FMTTYPE=image/jpeg:https://alte-molkerei.info/wp-content/uploads/2025/06/mittwochs-im-molke-foyer-brigitte-moellers-chris-paus89.jpg
END:VEVENT
END:VCALENDAR